BEGIN:VCALENDAR
VERSION:2.0
PRODID:-//Gopher State Chapter Buick - ECPv6.15.20//NONSGML v1.0//EN
CALSCALE:GREGORIAN
METHOD:PUBLISH
X-ORIGINAL-URL:http://gopherstatebuick.org/club
X-WR-CALDESC:Events for Gopher State Chapter Buick
REFRESH-INTERVAL;VALUE=DURATION:PT1H
X-Robots-Tag:noindex
X-PUBLISHED-TTL:PT1H
BEGIN:VTIMEZONE
TZID:UTC
BEGIN:STANDARD
TZOFFSETFROM:+0000
TZOFFSETTO:+0000
TZNAME:UTC
DTSTART:20200101T000000
END:STANDARD
END:VTIMEZONE
BEGIN:VEVENT
DTSTART;TZID=UTC:20211111T100000
DTEND;TZID=UTC:20211111T110000
DTSTAMP:20260419T121626
CREATED:20211111T222559Z
LAST-MODIFIED:20211111T222559Z
UID:556-1636624800-1636628400@gopherstatebuick.org
SUMMARY:Special Spring Show Planning Meeting
DESCRIPTION:
URL:http://gopherstatebuick.org/club/event/special-spring-show-planning-meeting/
LOCATION:American Durable\, 6080 Claude Way E\, Inver Grove Heights\, MN\, 55076
END:VEVENT
END:VCALENDAR