BEGIN:VCALENDAR
VERSION:2.0
PRODID:-//Gopher State Chapter Buick - ECPv6.15.20//NONSGML v1.0//EN
CALSCALE:GREGORIAN
METHOD:PUBLISH
X-ORIGINAL-URL:http://gopherstatebuick.org/club
X-WR-CALDESC:Events for Gopher State Chapter Buick
REFRESH-INTERVAL;VALUE=DURATION:PT1H
X-Robots-Tag:noindex
X-PUBLISHED-TTL:PT1H
BEGIN:VTIMEZONE
TZID:UTC
BEGIN:STANDARD
TZOFFSETFROM:+0000
TZOFFSETTO:+0000
TZNAME:UTC
DTSTART:20200101T000000
END:STANDARD
END:VTIMEZONE
BEGIN:VEVENT
DTSTART;TZID=UTC:20211207T193000
DTEND;TZID=UTC:20211207T203000
DTSTAMP:20260419T151430
CREATED:20211111T222737Z
LAST-MODIFIED:20211111T222737Z
UID:558-1638905400-1638909000@gopherstatebuick.org
SUMMARY:Board Meeting
DESCRIPTION:
URL:http://gopherstatebuick.org/club/event/board-meeting-30/
LOCATION:American Durable\, 6080 Claude Way E\, Inver Grove Heights\, MN\, 55076
END:VEVENT
END:VCALENDAR