BEGIN:VCALENDAR
VERSION:2.0
PRODID:-//Gopher State Chapter Buick - ECPv6.15.20//NONSGML v1.0//EN
CALSCALE:GREGORIAN
METHOD:PUBLISH
X-WR-CALNAME:Gopher State Chapter Buick
X-ORIGINAL-URL:http://gopherstatebuick.org/club
X-WR-CALDESC:Events for Gopher State Chapter Buick
REFRESH-INTERVAL;VALUE=DURATION:PT1H
X-Robots-Tag:noindex
X-PUBLISHED-TTL:PT1H
BEGIN:VTIMEZONE
TZID:UTC
BEGIN:STANDARD
TZOFFSETFROM:+0000
TZOFFSETTO:+0000
TZNAME:UTC
DTSTART:20210101T000000
END:STANDARD
END:VTIMEZONE
BEGIN:VEVENT
DTSTART;TZID=UTC:20220208T183000
DTEND;TZID=UTC:20220208T200000
DTSTAMP:20260423T133756
CREATED:20220122T161759Z
LAST-MODIFIED:20220122T161759Z
UID:566-1644345000-1644350400@gopherstatebuick.org
SUMMARY:General Membership Meeting
DESCRIPTION:Valentine’s day celebration
URL:http://gopherstatebuick.org/club/event/general-membership-meeting-23/
LOCATION:American Durable\, 6080 Claude Way E\, Inver Grove Heights\, MN\, 55076
END:VEVENT
END:VCALENDAR