BEGIN:VCALENDAR
VERSION:2.0
PRODID:-//Gopher State Chapter Buick - ECPv6.15.20//NONSGML v1.0//EN
CALSCALE:GREGORIAN
METHOD:PUBLISH
X-WR-CALNAME:Gopher State Chapter Buick
X-ORIGINAL-URL:http://gopherstatebuick.org/club
X-WR-CALDESC:Events for Gopher State Chapter Buick
REFRESH-INTERVAL;VALUE=DURATION:PT1H
X-Robots-Tag:noindex
X-PUBLISHED-TTL:PT1H
BEGIN:VTIMEZONE
TZID:UTC
BEGIN:STANDARD
TZOFFSETFROM:+0000
TZOFFSETTO:+0000
TZNAME:UTC
DTSTART:20220101T000000
END:STANDARD
END:VTIMEZONE
BEGIN:VEVENT
DTSTART;TZID=UTC:20230712T080000
DTEND;TZID=UTC:20230715T170000
DTSTAMP:20260423T120316
CREATED:20230703T143048Z
LAST-MODIFIED:20230703T143048Z
UID:633-1689148800-1689440400@gopherstatebuick.org
SUMMARY:Buick National Meet in Spokane\, Washington
DESCRIPTION:
URL:http://gopherstatebuick.org/club/event/buick-national-meet-in-spokane-washington/
LOCATION:IA
END:VEVENT
END:VCALENDAR