BEGIN:VCALENDAR
VERSION:2.0
PRODID:-//Gopher State Chapter Buick - ECPv6.15.20//NONSGML v1.0//EN
CALSCALE:GREGORIAN
METHOD:PUBLISH
X-ORIGINAL-URL:http://gopherstatebuick.org/club
X-WR-CALDESC:Events for Gopher State Chapter Buick
REFRESH-INTERVAL;VALUE=DURATION:PT1H
X-Robots-Tag:noindex
X-PUBLISHED-TTL:PT1H
BEGIN:VTIMEZONE
TZID:UTC
BEGIN:STANDARD
TZOFFSETFROM:+0000
TZOFFSETTO:+0000
TZNAME:UTC
DTSTART:20240101T000000
END:STANDARD
END:VTIMEZONE
BEGIN:VEVENT
DTSTART;TZID=UTC:20250311T193000
DTEND;TZID=UTC:20250311T210000
DTSTAMP:20260422T164119
CREATED:20250209T001819Z
LAST-MODIFIED:20250209T001819Z
UID:735-1741721400-1741726800@gopherstatebuick.org
SUMMARY:General Membership Meeting
DESCRIPTION:
URL:http://gopherstatebuick.org/club/event/general-membership-meeting-27/
LOCATION:Boyscout Basecamp\, 6202 Bloomington Rd\, Bloomington\, MN\, 55420
END:VEVENT
END:VCALENDAR