BEGIN:VCALENDAR
VERSION:2.0
PRODID:-//Gopher State Chapter Buick - ECPv6.15.20//NONSGML v1.0//EN
CALSCALE:GREGORIAN
METHOD:PUBLISH
X-WR-CALNAME:Gopher State Chapter Buick
X-ORIGINAL-URL:http://gopherstatebuick.org/club
X-WR-CALDESC:Events for Gopher State Chapter Buick
REFRESH-INTERVAL;VALUE=DURATION:PT1H
X-Robots-Tag:noindex
X-PUBLISHED-TTL:PT1H
BEGIN:VTIMEZONE
TZID:UTC
BEGIN:STANDARD
TZOFFSETFROM:+0000
TZOFFSETTO:+0000
TZNAME:UTC
DTSTART:20240101T000000
END:STANDARD
END:VTIMEZONE
BEGIN:VEVENT
DTSTART;TZID=UTC:20250315T100000
DTEND;TZID=UTC:20250315T120000
DTSTAMP:20260422T164002
CREATED:20250303T023626Z
LAST-MODIFIED:20250303T023626Z
UID:763-1742032800-1742040000@gopherstatebuick.org
SUMMARY:Spring Show Meeting
DESCRIPTION:at Fort Snelling Boy Scout Base Camp \n6202 Bloomington Road from 10AM -12 PM
URL:http://gopherstatebuick.org/club/event/spring-show-meeting-5/
LOCATION:Boyscout Basecamp\, 6202 Bloomington Rd\, Bloomington\, MN\, 55420
END:VEVENT
END:VCALENDAR