BEGIN:VCALENDAR
VERSION:2.0
PRODID:-//Gopher State Chapter Buick - ECPv6.15.20//NONSGML v1.0//EN
CALSCALE:GREGORIAN
METHOD:PUBLISH
X-ORIGINAL-URL:http://gopherstatebuick.org/club
X-WR-CALDESC:Events for Gopher State Chapter Buick
REFRESH-INTERVAL;VALUE=DURATION:PT1H
X-Robots-Tag:noindex
X-PUBLISHED-TTL:PT1H
BEGIN:VTIMEZONE
TZID:UTC
BEGIN:STANDARD
TZOFFSETFROM:+0000
TZOFFSETTO:+0000
TZNAME:UTC
DTSTART:20240101T000000
END:STANDARD
END:VTIMEZONE
BEGIN:VEVENT
DTSTART;TZID=UTC:20250504T080000
DTEND;TZID=UTC:20250504T150000
DTSTAMP:20260422T181615
CREATED:20250303T024034Z
LAST-MODIFIED:20250303T024034Z
UID:767-1746345600-1746370800@gopherstatebuick.org
SUMMARY:GSBCA Spring Extravaganza Car Show
DESCRIPTION:38th Annual Spring Extravaganza\nCar Show and Swap meet \nMay 4th\, 2025\n8:00am – 3:00pm\nat the Minnesota State Fairgrounds
URL:http://gopherstatebuick.org/club/event/gsbca-spring-extravaganza-car-show/
LOCATION:Minnesota State Fairgrounds\, 1265 Snelling Ave\, St Paul\, MN\, 55108\, United States
END:VEVENT
END:VCALENDAR