BEGIN:VCALENDAR
VERSION:2.0
PRODID:-//Gopher State Chapter Buick - ECPv6.15.20//NONSGML v1.0//EN
CALSCALE:GREGORIAN
METHOD:PUBLISH
X-WR-CALNAME:Gopher State Chapter Buick
X-ORIGINAL-URL:http://gopherstatebuick.org/club
X-WR-CALDESC:Events for Gopher State Chapter Buick
REFRESH-INTERVAL;VALUE=DURATION:PT1H
X-Robots-Tag:noindex
X-PUBLISHED-TTL:PT1H
BEGIN:VTIMEZONE
TZID:UTC
BEGIN:STANDARD
TZOFFSETFROM:+0000
TZOFFSETTO:+0000
TZNAME:UTC
DTSTART:20250101T000000
END:STANDARD
END:VTIMEZONE
BEGIN:VEVENT
DTSTART;VALUE=DATE:20260619
DTEND;VALUE=DATE:20260622
DTSTAMP:20260422T144351
CREATED:20260413T230259Z
LAST-MODIFIED:20260413T230259Z
UID:879-1781827200-1782086399@gopherstatebuick.org
SUMMARY:52 Annual Back to the 50’s Weekend
DESCRIPTION:https://msrabacktothe50s.com\nhttps://www.exploreminnesota.com/event/msra-back-to-50s-weekend
URL:http://gopherstatebuick.org/club/event/52-annual-back-to-the-50s-weekend/
LOCATION:Minnesota State Fairgrounds\, 1265 Snelling Ave\, St Paul\, MN\, 55108\, United States
END:VEVENT
END:VCALENDAR