BEGIN:VCALENDAR
VERSION:2.0
PRODID:-//Gopher State Chapter Buick - ECPv6.15.20//NONSGML v1.0//EN
CALSCALE:GREGORIAN
METHOD:PUBLISH
X-ORIGINAL-URL:http://gopherstatebuick.org/club
X-WR-CALDESC:Events for Gopher State Chapter Buick
REFRESH-INTERVAL;VALUE=DURATION:PT1H
X-Robots-Tag:noindex
X-PUBLISHED-TTL:PT1H
BEGIN:VTIMEZONE
TZID:UTC
BEGIN:STANDARD
TZOFFSETFROM:+0000
TZOFFSETTO:+0000
TZNAME:UTC
DTSTART:20250101T000000
END:STANDARD
END:VTIMEZONE
BEGIN:VEVENT
DTSTART;VALUE=DATE:20260625
DTEND;VALUE=DATE:20260628
DTSTAMP:20260422T144606
CREATED:20260413T230752Z
LAST-MODIFIED:20260413T230752Z
UID:881-1782345600-1782604799@gopherstatebuick.org
SUMMARY:Heartland Buick Regional 2026
DESCRIPTION:Registration:\nhttps://www.buickclub.org/wp-content/uploads/2025/12/Heartland-2026-Registration-form.pdf
URL:http://gopherstatebuick.org/club/event/heartland-buick-regional-2026/
LOCATION:Ames\, IA\, 311 S 17th St\, Ames\, IA\, 50010
END:VEVENT
END:VCALENDAR