BEGIN:VCALENDAR
VERSION:2.0
PRODID:-//Gopher State Chapter Buick - ECPv6.15.20//NONSGML v1.0//EN
CALSCALE:GREGORIAN
METHOD:PUBLISH
X-ORIGINAL-URL:http://gopherstatebuick.org/club
X-WR-CALDESC:Events for Gopher State Chapter Buick
REFRESH-INTERVAL;VALUE=DURATION:PT1H
X-Robots-Tag:noindex
X-PUBLISHED-TTL:PT1H
BEGIN:VTIMEZONE
TZID:UTC
BEGIN:STANDARD
TZOFFSETFROM:+0000
TZOFFSETTO:+0000
TZNAME:UTC
DTSTART:20180101T000000
END:STANDARD
END:VTIMEZONE
BEGIN:VEVENT
DTSTART;TZID=UTC:20191001T193000
DTEND;TZID=UTC:20191001T203000
DTSTAMP:20260423T134152
CREATED:20190829T215823Z
LAST-MODIFIED:20190829T215823Z
UID:487-1569958200-1569961800@gopherstatebuick.org
SUMMARY:Board Meeting
DESCRIPTION:Board Meeting – 7:30 PM – Gloria Dei Lutheran Church
URL:http://gopherstatebuick.org/club/event/board-meeting-27/
LOCATION:Gloria Dei Lutheran Church\, 700 Snelling Ave S\, St Paul \, MN\, 55116\, United States
END:VEVENT
BEGIN:VEVENT
DTSTART;TZID=UTC:20191008T193000
DTEND;TZID=UTC:20191008T203000
DTSTAMP:20260423T134152
CREATED:20190829T215911Z
LAST-MODIFIED:20190829T215911Z
UID:489-1570563000-1570566600@gopherstatebuick.org
SUMMARY:General Membership Meeting
DESCRIPTION:General Membership Meeting – 7:30 PM Gloria Dei Lutheran Church
URL:http://gopherstatebuick.org/club/event/general-membership-meeting-21/
LOCATION:Gloria Dei Lutheran Church\, 700 Snelling Ave S\, St Paul \, MN\, 55116\, United States
END:VEVENT
BEGIN:VEVENT
DTSTART;TZID=UTC:20191020T130000
DTEND;TZID=UTC:20191020T170000
DTSTAMP:20260423T134153
CREATED:20190829T220109Z
LAST-MODIFIED:20190829T220109Z
UID:491-1571576400-1571590800@gopherstatebuick.org
SUMMARY:St. Croix River Cruise
DESCRIPTION:Boat leaves at 1:30 PM\, Great afternoon with a delicious meal. Call in your reservation. (see Sept porthole for details)
URL:http://gopherstatebuick.org/club/event/st-croix-river-cruise/
LOCATION:St. Croix Boat and Packet Co\,   525 South Main St.\,  Stillwater\, MN\, 55082\, United States
END:VEVENT
BEGIN:VEVENT
DTSTART;TZID=UTC:20191027T140000
DTEND;TZID=UTC:20191027T170000
DTSTAMP:20260423T134153
CREATED:20190829T220333Z
LAST-MODIFIED:20190829T220333Z
UID:493-1572184800-1572195600@gopherstatebuick.org
SUMMARY:Havlik Points Dinner
DESCRIPTION:Havlik Points Dinner – 2:00 PM social hour and 3:00 PM dinner at Guldens.
URL:http://gopherstatebuick.org/club/event/havlik-points-dinner/
LOCATION:Guldens\, 2999 North\, US-61\, Maplewood\, MN\, 55109\, United States
END:VEVENT
END:VCALENDAR