BEGIN:VCALENDAR
VERSION:2.0
PRODID:-//Gopher State Chapter Buick - ECPv6.15.20//NONSGML v1.0//EN
CALSCALE:GREGORIAN
METHOD:PUBLISH
X-ORIGINAL-URL:http://gopherstatebuick.org/club
X-WR-CALDESC:Events for Gopher State Chapter Buick
REFRESH-INTERVAL;VALUE=DURATION:PT1H
X-Robots-Tag:noindex
X-PUBLISHED-TTL:PT1H
BEGIN:VTIMEZONE
TZID:UTC
BEGIN:STANDARD
TZOFFSETFROM:+0000
TZOFFSETTO:+0000
TZNAME:UTC
DTSTART:20230101T000000
END:STANDARD
END:VTIMEZONE
BEGIN:VEVENT
DTSTART;TZID=UTC:20240505T080000
DTEND;TZID=UTC:20240505T150000
DTSTAMP:20260421T155137
CREATED:20240227T000859Z
LAST-MODIFIED:20240404T213745Z
UID:644-1714896000-1714921200@gopherstatebuick.org
SUMMARY:37th Annual Spring Extravaganza Car Show & Swap Meet
DESCRIPTION:JOIN THE FUN!\nSunday May 5\, 2024 • 8 am – 3 pm\nTHE LARGEST ONE-DAY CAR SHOW & SWAP MEET IN THE METRO AREA\nMINNESOTA STATE FAIRGROUNDS – MACHINERY HILL\nHOTLINE: 651-770-8096 \nSpectators – $10.00 Adults\nChildren under 12 FREE \nRegister today!
URL:http://gopherstatebuick.org/club/event/36th-annual-spring-show-swap-meet-2/
LOCATION:Minnesota State Fairgrounds\, 1265 Snelling Ave\, St Paul\, MN\, 55108\, United States
END:VEVENT
END:VCALENDAR