BEGIN:VCALENDAR
VERSION:2.0
PRODID:-//Gopher State Chapter Buick - ECPv6.15.20//NONSGML v1.0//EN
CALSCALE:GREGORIAN
METHOD:PUBLISH
X-ORIGINAL-URL:http://gopherstatebuick.org/club
X-WR-CALDESC:Events for Gopher State Chapter Buick
REFRESH-INTERVAL;VALUE=DURATION:PT1H
X-Robots-Tag:noindex
X-PUBLISHED-TTL:PT1H
BEGIN:VTIMEZONE
TZID:UTC
BEGIN:STANDARD
TZOFFSETFROM:+0000
TZOFFSETTO:+0000
TZNAME:UTC
DTSTART:20230101T000000
END:STANDARD
END:VTIMEZONE
BEGIN:VEVENT
DTSTART;TZID=UTC:20240710T080000
DTEND;TZID=UTC:20240713T170000
DTSTAMP:20260420T155014
CREATED:20240328T011903Z
LAST-MODIFIED:20240328T011903Z
UID:654-1720598400-1720890000@gopherstatebuick.org
SUMMARY:BCA Nationals
DESCRIPTION:BCA Nationals held at Strongsville\, Ohio \nhttps://2024bcanational.org/
URL:http://gopherstatebuick.org/club/event/bca-nationals-2/
LOCATION:IA
END:VEVENT
END:VCALENDAR