BEGIN:VCALENDAR
VERSION:2.0
PRODID:-//Gopher State Chapter Buick - ECPv6.15.20//NONSGML v1.0//EN
CALSCALE:GREGORIAN
METHOD:PUBLISH
X-WR-CALNAME:Gopher State Chapter Buick
X-ORIGINAL-URL:http://gopherstatebuick.org/club
X-WR-CALDESC:Events for Gopher State Chapter Buick
REFRESH-INTERVAL;VALUE=DURATION:PT1H
X-Robots-Tag:noindex
X-PUBLISHED-TTL:PT1H
BEGIN:VTIMEZONE
TZID:UTC
BEGIN:STANDARD
TZOFFSETFROM:+0000
TZOFFSETTO:+0000
TZNAME:UTC
DTSTART:20230101T000000
END:STANDARD
END:VTIMEZONE
BEGIN:VEVENT
DTSTART;TZID=UTC:20241211T193000
DTEND;TZID=UTC:20241211T210000
DTSTAMP:20260422T102207
CREATED:20241203T165822Z
LAST-MODIFIED:20241203T165822Z
UID:697-1733945400-1733950800@gopherstatebuick.org
SUMMARY:General Membership Meeting (Toys for Tots & Second Harvest)
DESCRIPTION:Will be held at Fort Snelling at the\nBoy Scout Base Camp\, 6202 Bloomington Road from 7:30 to 9 PM\nToys for Tots and 2nd Harvest collection
URL:http://gopherstatebuick.org/club/event/general-membership-meeting-toys-for-tots-second-harvest/
LOCATION:Boyscout Basecamp\, 6202 Bloomington Rd\, Bloomington\, MN\, 55420
END:VEVENT
BEGIN:VEVENT
DTSTART;TZID=UTC:20241214T100000
DTEND;TZID=UTC:20241214T120000
DTSTAMP:20260422T102207
CREATED:20241203T165941Z
LAST-MODIFIED:20241203T165941Z
UID:699-1734170400-1734177600@gopherstatebuick.org
SUMMARY:Spring show 2025 planning meeting
DESCRIPTION:Spring Show Meeting Will be held at Fort Snelling Boy Scout Base Camp\n6202 Bloomington Road from 10:00 to 12:00
URL:http://gopherstatebuick.org/club/event/spring-show-2025-planning-meeting/
LOCATION:Boyscout Basecamp\, 6202 Bloomington Rd\, Bloomington\, MN\, 55420
END:VEVENT
END:VCALENDAR