BEGIN:VCALENDAR
VERSION:2.0
PRODID:-//Gopher State Chapter Buick - ECPv6.15.20//NONSGML v1.0//EN
CALSCALE:GREGORIAN
METHOD:PUBLISH
X-ORIGINAL-URL:http://gopherstatebuick.org/club
X-WR-CALDESC:Events for Gopher State Chapter Buick
REFRESH-INTERVAL;VALUE=DURATION:PT1H
X-Robots-Tag:noindex
X-PUBLISHED-TTL:PT1H
BEGIN:VTIMEZONE
TZID:UTC
BEGIN:STANDARD
TZOFFSETFROM:+0000
TZOFFSETTO:+0000
TZNAME:UTC
DTSTART:20240101T000000
END:STANDARD
END:VTIMEZONE
BEGIN:VEVENT
DTSTART;TZID=UTC:20250401T190000
DTEND;TZID=UTC:20250401T203000
DTSTAMP:20260422T164216
CREATED:20250303T023357Z
LAST-MODIFIED:20250303T023357Z
UID:761-1743534000-1743539400@gopherstatebuick.org
SUMMARY:Board meeting
DESCRIPTION:
URL:http://gopherstatebuick.org/club/event/board-meeting-34-2/
LOCATION:Boyscout Basecamp\, 6202 Bloomington Rd\, Bloomington\, MN\, 55420
END:VEVENT
BEGIN:VEVENT
DTSTART;TZID=UTC:20250408T193000
DTEND;TZID=UTC:20250408T210000
DTSTAMP:20260422T164216
CREATED:20250303T023153Z
LAST-MODIFIED:20250303T023153Z
UID:759-1744140600-1744146000@gopherstatebuick.org
SUMMARY:General Membership Meeting
DESCRIPTION:
URL:http://gopherstatebuick.org/club/event/general-membership-meeting-27-2/
LOCATION:Boyscout Basecamp\, 6202 Bloomington Rd\, Bloomington\, MN\, 55420
END:VEVENT
BEGIN:VEVENT
DTSTART;VALUE=DATE:20250419
DTEND;VALUE=DATE:20250420
DTSTAMP:20260422T164216
CREATED:20250303T023819Z
LAST-MODIFIED:20250303T023819Z
UID:765-1745020800-1745107199@gopherstatebuick.org
SUMMARY:Spring Show Training Meeting
DESCRIPTION:at State Fair Grounds Home Depot Building start time TBD
URL:http://gopherstatebuick.org/club/event/spring-show-training-meeting/
LOCATION:Minnesota State Fairgrounds\, 1265 Snelling Ave\, St Paul\, MN\, 55108\, United States
END:VEVENT
END:VCALENDAR