BEGIN:VCALENDAR
VERSION:2.0
PRODID:-//Gopher State Chapter Buick - ECPv6.15.20//NONSGML v1.0//EN
CALSCALE:GREGORIAN
METHOD:PUBLISH
X-ORIGINAL-URL:http://gopherstatebuick.org/club
X-WR-CALDESC:Events for Gopher State Chapter Buick
REFRESH-INTERVAL;VALUE=DURATION:PT1H
X-Robots-Tag:noindex
X-PUBLISHED-TTL:PT1H
BEGIN:VTIMEZONE
TZID:UTC
BEGIN:STANDARD
TZOFFSETFROM:+0000
TZOFFSETTO:+0000
TZNAME:UTC
DTSTART:20240101T000000
END:STANDARD
END:VTIMEZONE
BEGIN:VEVENT
DTSTART;TZID=UTC:20250601T080000
DTEND;TZID=UTC:20250601T140000
DTSTAMP:20260422T195042
CREATED:20250512T190553Z
LAST-MODIFIED:20250512T190553Z
UID:782-1748764800-1748786400@gopherstatebuick.org
SUMMARY:All GM show
DESCRIPTION:
URL:http://gopherstatebuick.org/club/event/all-gm-show-2/
LOCATION:Minnesota State Fairgrounds\, 1265 Snelling Ave\, St Paul\, MN\, 55108\, United States
END:VEVENT
BEGIN:VEVENT
DTSTART;TZID=UTC:20250603T190000
DTEND;TZID=UTC:20250603T210000
DTSTAMP:20260422T195042
CREATED:20250512T190950Z
LAST-MODIFIED:20250512T190950Z
UID:786-1748977200-1748984400@gopherstatebuick.org
SUMMARY:Board Meeting
DESCRIPTION:
URL:http://gopherstatebuick.org/club/event/board-meeting-35/
LOCATION:Boyscout Basecamp\, 6202 Bloomington Rd\, Bloomington\, MN\, 55420
END:VEVENT
BEGIN:VEVENT
DTSTART;VALUE=DATE:20250604
DTEND;VALUE=DATE:20250608
DTSTAMP:20260422T195042
CREATED:20250512T190806Z
LAST-MODIFIED:20250512T190806Z
UID:784-1748995200-1749340799@gopherstatebuick.org
SUMMARY:Heartland Regionals
DESCRIPTION:
URL:http://gopherstatebuick.org/club/event/heartland-regionals/
LOCATION:IA
END:VEVENT
BEGIN:VEVENT
DTSTART;TZID=UTC:20250610T190000
DTEND;TZID=UTC:20250610T210000
DTSTAMP:20260422T195042
CREATED:20250512T191127Z
LAST-MODIFIED:20250512T191127Z
UID:788-1749582000-1749589200@gopherstatebuick.org
SUMMARY:General Meeting
DESCRIPTION:
URL:http://gopherstatebuick.org/club/event/general-meeting-2/
LOCATION:Boyscout Basecamp\, 6202 Bloomington Rd\, Bloomington\, MN\, 55420
END:VEVENT
END:VCALENDAR