BEGIN:VCALENDAR
VERSION:2.0
PRODID:-//Gopher State Chapter Buick - ECPv6.15.20//NONSGML v1.0//EN
CALSCALE:GREGORIAN
METHOD:PUBLISH
X-ORIGINAL-URL:http://gopherstatebuick.org/club
X-WR-CALDESC:Events for Gopher State Chapter Buick
REFRESH-INTERVAL;VALUE=DURATION:PT1H
X-Robots-Tag:noindex
X-PUBLISHED-TTL:PT1H
BEGIN:VTIMEZONE
TZID:UTC
BEGIN:STANDARD
TZOFFSETFROM:+0000
TZOFFSETTO:+0000
TZNAME:UTC
DTSTART:20240101T000000
END:STANDARD
END:VTIMEZONE
BEGIN:VEVENT
DTSTART;TZID=UTC:20250805T190000
DTEND;TZID=UTC:20250805T210000
DTSTAMP:20260422T222803
CREATED:20250512T192112Z
LAST-MODIFIED:20250512T192112Z
UID:797-1754420400-1754427600@gopherstatebuick.org
SUMMARY:Board Meeting
DESCRIPTION:
URL:http://gopherstatebuick.org/club/event/board-meeting-37/
LOCATION:Boyscout Basecamp\, 6202 Bloomington Rd\, Bloomington\, MN\, 55420
END:VEVENT
BEGIN:VEVENT
DTSTART;TZID=UTC:20250812T180000
DTEND;TZID=UTC:20250812T210000
DTSTAMP:20260422T222803
CREATED:20250512T192259Z
LAST-MODIFIED:20250512T192259Z
UID:799-1755021600-1755032400@gopherstatebuick.org
SUMMARY:General Meeting
DESCRIPTION:Tailgate swap and BBQ
URL:http://gopherstatebuick.org/club/event/general-meeting-4/
LOCATION:American Durable\, 6080 Claude Way E\, Inver Grove Heights\, MN\, 55076
END:VEVENT
END:VCALENDAR